BEGIN:VCALENDAR
VERSION:2.0
PRODID:-//Krebsberatung im Münsterland e.V. - ECPv6.15.20//NONSGML v1.0//EN
CALSCALE:GREGORIAN
METHOD:PUBLISH
X-ORIGINAL-URL:https://krebsberatung-muenster.de
X-WR-CALDESC:Veranstaltungen für Krebsberatung im Münsterland e.V.
REFRESH-INTERVAL;VALUE=DURATION:PT1H
X-Robots-Tag:noindex
X-PUBLISHED-TTL:PT1H
BEGIN:VTIMEZONE
TZID:Europe/Berlin
BEGIN:DAYLIGHT
TZOFFSETFROM:+0100
TZOFFSETTO:+0200
TZNAME:CEST
DTSTART:20250330T010000
END:DAYLIGHT
BEGIN:STANDARD
TZOFFSETFROM:+0200
TZOFFSETTO:+0100
TZNAME:CET
DTSTART:20251026T010000
END:STANDARD
BEGIN:DAYLIGHT
TZOFFSETFROM:+0100
TZOFFSETTO:+0200
TZNAME:CEST
DTSTART:20260329T010000
END:DAYLIGHT
BEGIN:STANDARD
TZOFFSETFROM:+0200
TZOFFSETTO:+0100
TZNAME:CET
DTSTART:20261025T010000
END:STANDARD
BEGIN:DAYLIGHT
TZOFFSETFROM:+0100
TZOFFSETTO:+0200
TZNAME:CEST
DTSTART:20270328T010000
END:DAYLIGHT
BEGIN:STANDARD
TZOFFSETFROM:+0200
TZOFFSETTO:+0100
TZNAME:CET
DTSTART:20271031T010000
END:STANDARD
END:VTIMEZONE
BEGIN:VEVENT
DTSTART;TZID=Europe/Berlin:20260804T140000
DTEND;TZID=Europe/Berlin:20260804T170000
DTSTAMP:20260421T180011
CREATED:20240709T110609Z
LAST-MODIFIED:20260225T143436Z
UID:10000390-1785852000-1785862800@krebsberatung-muenster.de
SUMMARY:Ernährungsberatung
DESCRIPTION:Sabrina Queißert\nDipl.-Oecotrophologin: Möglichkeiten der Ernährung zur Unterstützung der Krebsbehandlung
URL:https://krebsberatung-muenster.de/veranstaltung/ernaehrungsberatung/2026-08-04/
CATEGORIES:Wiederkehrende Veranstaltungen
ATTACH;FMTTYPE=image/jpeg:https://krebsberatung-muenster.de/wp-content/uploads/Seminar_Ernaehrung.jpg
END:VEVENT
BEGIN:VEVENT
DTSTART;TZID=Europe/Berlin:20260806T110000
DTEND;TZID=Europe/Berlin:20260806T170000
DTSTAMP:20260421T180011
CREATED:20240709T102846Z
LAST-MODIFIED:20251120T120549Z
UID:10000319-1786014000-1786035600@krebsberatung-muenster.de
SUMMARY:Edelfundus
DESCRIPTION:… das Kaufhaus auf Zeit\nVerkauf zugunsten der Krebsberatungsstelle Münster\nmehr erfahren
URL:https://krebsberatung-muenster.de/veranstaltung/edelfundus/2026-08-06/
CATEGORIES:Wiederkehrende Veranstaltungen
ATTACH;FMTTYPE=image/jpeg:https://krebsberatung-muenster.de/wp-content/uploads/Edelfundus_Logo.jpg
END:VEVENT
BEGIN:VEVENT
DTSTART;TZID=Europe/Berlin:20260807T110000
DTEND;TZID=Europe/Berlin:20260807T170000
DTSTAMP:20260421T180011
CREATED:20240709T102846Z
LAST-MODIFIED:20251120T120549Z
UID:10000320-1786100400-1786122000@krebsberatung-muenster.de
SUMMARY:Edelfundus
DESCRIPTION:… das Kaufhaus auf Zeit\nVerkauf zugunsten der Krebsberatungsstelle Münster\nmehr erfahren
URL:https://krebsberatung-muenster.de/veranstaltung/edelfundus/2026-08-07/
CATEGORIES:Wiederkehrende Veranstaltungen
ATTACH;FMTTYPE=image/jpeg:https://krebsberatung-muenster.de/wp-content/uploads/Edelfundus_Logo.jpg
END:VEVENT
BEGIN:VEVENT
DTSTART;TZID=Europe/Berlin:20260808T110000
DTEND;TZID=Europe/Berlin:20260808T170000
DTSTAMP:20260421T180011
CREATED:20240709T102846Z
LAST-MODIFIED:20251120T120549Z
UID:10000321-1786186800-1786208400@krebsberatung-muenster.de
SUMMARY:Edelfundus
DESCRIPTION:… das Kaufhaus auf Zeit\nVerkauf zugunsten der Krebsberatungsstelle Münster\nmehr erfahren
URL:https://krebsberatung-muenster.de/veranstaltung/edelfundus/2026-08-08/
CATEGORIES:Wiederkehrende Veranstaltungen
ATTACH;FMTTYPE=image/jpeg:https://krebsberatung-muenster.de/wp-content/uploads/Edelfundus_Logo.jpg
END:VEVENT
BEGIN:VEVENT
DTSTART;TZID=Europe/Berlin:20260826T150000
DTEND;TZID=Europe/Berlin:20260826T180000
DTSTAMP:20260421T180011
CREATED:20240709T110353Z
LAST-MODIFIED:20251120T113301Z
UID:10000282-1787756400-1787767200@krebsberatung-muenster.de
SUMMARY:Pharmazeutische Beratung zum Nebenwirkungsmanagement
DESCRIPTION:Stefanie Heindel\, Apothekerin (Hohenzollern Apotheke am Ring\, Münster)\nOnkologische Pharmazie\, Ernährungsberatung\, Palliativpharmazie \nJulia Sendker\, Apothekerin (Hohenzollern Apotheke am Ring\, Münster)\nBetreuung von Tumorpatient:innen\, AMTS-Managerin\, Naturheilverfahren\, Homöopathie
URL:https://krebsberatung-muenster.de/veranstaltung/pharmazeutische-beratung-zum-nebenwirkungsmanagement/2026-08-26/
CATEGORIES:Wiederkehrende Veranstaltungen
ATTACH;FMTTYPE=image/webp:https://krebsberatung-muenster.de/wp-content/uploads/Pharmazeutische_Beratung2.webp
END:VEVENT
BEGIN:VEVENT
DTSTART;TZID=Europe/Berlin:20260828T160000
DTEND;TZID=Europe/Berlin:20260828T180000
DTSTAMP:20260421T180011
CREATED:20241126T152556Z
LAST-MODIFIED:20260211T102349Z
UID:10000351-1787932800-1787940000@krebsberatung-muenster.de
SUMMARY:Sing and Swing
DESCRIPTION:Leitung: Bettina Jung\, zertifizierte Chorleiterin\, Sängerin und Rhythmuspädagogin\, Leiterin der Selbsthilfegruppe Eierstockkrebs in Münster\nOrt: Raum 403 im Gesundheitshaus Münster (4. OG)\, Gasselstiege 13\, 48159 Münster\nTeilnahmegebühr: 10 €/erm. 8 €
URL:https://krebsberatung-muenster.de/veranstaltung/sing-and-swing/2026-08-28/
ATTACH;FMTTYPE=image/jpeg:https://krebsberatung-muenster.de/wp-content/uploads/singandswing.jpg
END:VEVENT
END:VCALENDAR