BEGIN:VCALENDAR
VERSION:2.0
PRODID:-//Krebsberatung im Münsterland e.V. - ECPv6.15.20//NONSGML v1.0//EN
CALSCALE:GREGORIAN
METHOD:PUBLISH
X-ORIGINAL-URL:https://krebsberatung-muenster.de
X-WR-CALDESC:Veranstaltungen für Krebsberatung im Münsterland e.V.
REFRESH-INTERVAL;VALUE=DURATION:PT1H
X-Robots-Tag:noindex
X-PUBLISHED-TTL:PT1H
BEGIN:VTIMEZONE
TZID:Europe/Berlin
BEGIN:DAYLIGHT
TZOFFSETFROM:+0100
TZOFFSETTO:+0200
TZNAME:CEST
DTSTART:20250330T010000
END:DAYLIGHT
BEGIN:STANDARD
TZOFFSETFROM:+0200
TZOFFSETTO:+0100
TZNAME:CET
DTSTART:20251026T010000
END:STANDARD
BEGIN:DAYLIGHT
TZOFFSETFROM:+0100
TZOFFSETTO:+0200
TZNAME:CEST
DTSTART:20260329T010000
END:DAYLIGHT
BEGIN:STANDARD
TZOFFSETFROM:+0200
TZOFFSETTO:+0100
TZNAME:CET
DTSTART:20261025T010000
END:STANDARD
BEGIN:DAYLIGHT
TZOFFSETFROM:+0100
TZOFFSETTO:+0200
TZNAME:CEST
DTSTART:20270328T010000
END:DAYLIGHT
BEGIN:STANDARD
TZOFFSETFROM:+0200
TZOFFSETTO:+0100
TZNAME:CET
DTSTART:20271031T010000
END:STANDARD
END:VTIMEZONE
BEGIN:VEVENT
DTSTART;TZID=Europe/Berlin:20260901T163000
DTEND;TZID=Europe/Berlin:20260901T180000
DTSTAMP:20260421T194616
CREATED:20240709T111816Z
LAST-MODIFIED:20251204T123141Z
UID:10000337-1788280200-1788285600@krebsberatung-muenster.de
SUMMARY:Kindertreff
DESCRIPTION:Für Kinder im Alter von 6 bis 13 Jahren\, die mit der Krebserkrankung eines Angehörigen konfrontiert sind\, bietet Christina Strotmann (Dipl.-Psychologin\, Psychoonkologin\, Mitarbeiterin der Krebsberatungsstelle) ein Treffen an.
URL:https://krebsberatung-muenster.de/veranstaltung/kindertreff/2026-09-01/
ATTACH;FMTTYPE=image/jpeg:https://krebsberatung-muenster.de/wp-content/uploads/Kindertreff-1.jpg
END:VEVENT
BEGIN:VEVENT
DTSTART;TZID=Europe/Berlin:20260902T150000
DTEND;TZID=Europe/Berlin:20260902T180000
DTSTAMP:20260421T194616
CREATED:20240709T104459Z
LAST-MODIFIED:20251120T111141Z
UID:10000262-1788361200-1788372000@krebsberatung-muenster.de
SUMMARY:Beratung: Komplementäre Krebsbehandlung
DESCRIPTION:Dagmar Wolf\nHeilpraktikerin: Stärkung des Immunsystems und Stoffwechselregulation
URL:https://krebsberatung-muenster.de/veranstaltung/beratung-komplementaere-krebsbehandlung/2026-09-02/
ATTACH;FMTTYPE=image/jpeg:https://krebsberatung-muenster.de/wp-content/uploads/Beratung_Naturheilverfahren.jpg
END:VEVENT
BEGIN:VEVENT
DTSTART;TZID=Europe/Berlin:20260902T150000
DTEND;TZID=Europe/Berlin:20260902T180000
DTSTAMP:20260421T194616
CREATED:20240709T110052Z
LAST-MODIFIED:20251120T110700Z
UID:10000257-1788361200-1788372000@krebsberatung-muenster.de
SUMMARY:Medizinische Beratung bei gynäkologischen Krebserkrankungen
DESCRIPTION:Dr. med. Monika Burger\nFachärztin für Gynäkologie und Geburtshilfe
URL:https://krebsberatung-muenster.de/veranstaltung/medizinische-beratung-bei-gynaekologischen-krebserkrankungen/2026-09-02/
CATEGORIES:Wiederkehrende Veranstaltungen
ATTACH;FMTTYPE=image/jpeg:https://krebsberatung-muenster.de/wp-content/uploads/gyn_Beratung.jpg
END:VEVENT
BEGIN:VEVENT
DTSTART;TZID=Europe/Berlin:20260909T150000
DTEND;TZID=Europe/Berlin:20260909T180000
DTSTAMP:20260421T194616
CREATED:20240709T104229Z
LAST-MODIFIED:20251120T111639Z
UID:10000271-1788966000-1788976800@krebsberatung-muenster.de
SUMMARY:Erstberatung zu Mangelernährung
DESCRIPTION:Dennis Papanouskas\nDiätassistent\, Leiter der Schule für Diätassistenten am Universitätsklinikum Münster
URL:https://krebsberatung-muenster.de/veranstaltung/erstberatung-zu-mangelernaehrung/2026-09-09/
CATEGORIES:Wiederkehrende Veranstaltungen
ATTACH;FMTTYPE=image/jpeg:https://krebsberatung-muenster.de/wp-content/uploads/Mangelernaehrung.jpg
END:VEVENT
BEGIN:VEVENT
DTSTART;TZID=Europe/Berlin:20260910T110000
DTEND;TZID=Europe/Berlin:20260910T170000
DTSTAMP:20260421T194616
CREATED:20240709T102846Z
LAST-MODIFIED:20251120T120549Z
UID:10000322-1789038000-1789059600@krebsberatung-muenster.de
SUMMARY:Edelfundus
DESCRIPTION:… das Kaufhaus auf Zeit\nVerkauf zugunsten der Krebsberatungsstelle Münster\nmehr erfahren
URL:https://krebsberatung-muenster.de/veranstaltung/edelfundus/2026-09-10/
CATEGORIES:Wiederkehrende Veranstaltungen
ATTACH;FMTTYPE=image/jpeg:https://krebsberatung-muenster.de/wp-content/uploads/Edelfundus_Logo.jpg
END:VEVENT
BEGIN:VEVENT
DTSTART;TZID=Europe/Berlin:20260911T110000
DTEND;TZID=Europe/Berlin:20260911T170000
DTSTAMP:20260421T194616
CREATED:20240709T102846Z
LAST-MODIFIED:20251120T120549Z
UID:10000323-1789124400-1789146000@krebsberatung-muenster.de
SUMMARY:Edelfundus
DESCRIPTION:… das Kaufhaus auf Zeit\nVerkauf zugunsten der Krebsberatungsstelle Münster\nmehr erfahren
URL:https://krebsberatung-muenster.de/veranstaltung/edelfundus/2026-09-11/
CATEGORIES:Wiederkehrende Veranstaltungen
ATTACH;FMTTYPE=image/jpeg:https://krebsberatung-muenster.de/wp-content/uploads/Edelfundus_Logo.jpg
END:VEVENT
BEGIN:VEVENT
DTSTART;TZID=Europe/Berlin:20260912T110000
DTEND;TZID=Europe/Berlin:20260912T170000
DTSTAMP:20260421T194616
CREATED:20240709T102846Z
LAST-MODIFIED:20251120T120549Z
UID:10000324-1789210800-1789232400@krebsberatung-muenster.de
SUMMARY:Edelfundus
DESCRIPTION:… das Kaufhaus auf Zeit\nVerkauf zugunsten der Krebsberatungsstelle Münster\nmehr erfahren
URL:https://krebsberatung-muenster.de/veranstaltung/edelfundus/2026-09-12/
CATEGORIES:Wiederkehrende Veranstaltungen
ATTACH;FMTTYPE=image/jpeg:https://krebsberatung-muenster.de/wp-content/uploads/Edelfundus_Logo.jpg
END:VEVENT
BEGIN:VEVENT
DTSTART;TZID=Europe/Berlin:20260915T173000
DTEND;TZID=Europe/Berlin:20260915T203000
DTSTAMP:20260421T194616
CREATED:20240709T114636Z
LAST-MODIFIED:20260205T121534Z
UID:10000376-1789493400-1789504200@krebsberatung-muenster.de
SUMMARY:Beginn Bochumer Gesundheitstraining nach Simonton
DESCRIPTION:Das Bochumer Gesundheitstraining nach Simonton bietet die Möglichkeit\, in Ergänzung zur medizinischen Behandlung etwas für das eigene Wohlergehen zu tun.\nLeitung: Claudia Holt-Greiwe\, Dipl.-Sozialpädagogin\, Psychoonkologin\, System. Therapeutin\, Mitarbeiterin der Krebsberatungsstelle\nOrt: VHS\, Aegidiistraße 70\, 48143 Münster\nTeilnahmegebühr: 140\,00 € (Ermäßigung möglich)
URL:https://krebsberatung-muenster.de/veranstaltung/beginn-bochumer-gesundheitstraining-nach-simonton-2/2026-09-15/
ATTACH;FMTTYPE=image/jpeg:https://krebsberatung-muenster.de/wp-content/uploads/BGT.jpg
END:VEVENT
BEGIN:VEVENT
DTSTART;TZID=Europe/Berlin:20260917T150000
DTEND;TZID=Europe/Berlin:20260917T163000
DTSTAMP:20260421T194616
CREATED:20240709T112017Z
LAST-MODIFIED:20251120T114932Z
UID:10000300-1789657200-1789662600@krebsberatung-muenster.de
SUMMARY:Schnuppersegeln für angehörige Kinder und Jugendliche
DESCRIPTION:Die Segelschule Overschmidt lädt zusammen mit der Krebsberatungsstelle Kinder und Jugendliche\, die mit der Krebserkrankung eines Angehörigen konfrontiert sind\, dazu ein beim Segeln eigene Stärken zu spüren und zu entdecken.
URL:https://krebsberatung-muenster.de/veranstaltung/schnuppersegeln-fuer-angehoerige-kinder-und-jugendliche/2026-09-17/
ATTACH;FMTTYPE=image/jpeg:https://krebsberatung-muenster.de/wp-content/uploads/Segeln_kids.jpg
END:VEVENT
BEGIN:VEVENT
DTSTART;TZID=Europe/Berlin:20260923T150000
DTEND;TZID=Europe/Berlin:20260923T180000
DTSTAMP:20260421T194616
CREATED:20240709T103816Z
LAST-MODIFIED:20251120T112722Z
UID:10000277-1790175600-1790186400@krebsberatung-muenster.de
SUMMARY:Beratung: Aktuelle medikamentöse Therapien bei Krebs
DESCRIPTION:Dr. med. Holger Timmer\nFacharzt für Innere Medizin\, Gemeinschaftspraxis für Hämatologie und Onkologie\, Münster
URL:https://krebsberatung-muenster.de/veranstaltung/beratung-aktuelle-medikamentoese-therapien-bei-krebs-2/2026-09-23/
ATTACH;FMTTYPE=image/jpeg:https://krebsberatung-muenster.de/wp-content/uploads/Beratung_4_Arzt.jpg
END:VEVENT
BEGIN:VEVENT
DTSTART;TZID=Europe/Berlin:20260923T150000
DTEND;TZID=Europe/Berlin:20260923T180000
DTSTAMP:20260421T194616
CREATED:20240709T105517Z
LAST-MODIFIED:20251120T113756Z
UID:10000289-1790175600-1790186400@krebsberatung-muenster.de
SUMMARY:Beratung: Strahlentherapie bei Krebs
DESCRIPTION:Dr. med. Niklas Benedikt Pepper\nOberarzt\, Klinik für Strahlentherapie – Radioonkologie\, Universitätsklinikum Münster
URL:https://krebsberatung-muenster.de/veranstaltung/beratung-strahlentherapie-bei-krebs/2026-09-23/
ATTACH;FMTTYPE=image/jpeg:https://krebsberatung-muenster.de/wp-content/uploads/Beratung_4_Arzt.jpg
END:VEVENT
END:VCALENDAR