BEGIN:VCALENDAR
VERSION:2.0
PRODID:-//Krebsberatung im Münsterland e.V. - ECPv6.15.20//NONSGML v1.0//EN
CALSCALE:GREGORIAN
METHOD:PUBLISH
X-ORIGINAL-URL:https://krebsberatung-muenster.de
X-WR-CALDESC:Veranstaltungen für Krebsberatung im Münsterland e.V.
REFRESH-INTERVAL;VALUE=DURATION:PT1H
X-Robots-Tag:noindex
X-PUBLISHED-TTL:PT1H
BEGIN:VTIMEZONE
TZID:Europe/Berlin
BEGIN:DAYLIGHT
TZOFFSETFROM:+0100
TZOFFSETTO:+0200
TZNAME:CEST
DTSTART:20250330T010000
END:DAYLIGHT
BEGIN:STANDARD
TZOFFSETFROM:+0200
TZOFFSETTO:+0100
TZNAME:CET
DTSTART:20251026T010000
END:STANDARD
BEGIN:DAYLIGHT
TZOFFSETFROM:+0100
TZOFFSETTO:+0200
TZNAME:CEST
DTSTART:20260329T010000
END:DAYLIGHT
BEGIN:STANDARD
TZOFFSETFROM:+0200
TZOFFSETTO:+0100
TZNAME:CET
DTSTART:20261025T010000
END:STANDARD
BEGIN:DAYLIGHT
TZOFFSETFROM:+0100
TZOFFSETTO:+0200
TZNAME:CEST
DTSTART:20270328T010000
END:DAYLIGHT
BEGIN:STANDARD
TZOFFSETFROM:+0200
TZOFFSETTO:+0100
TZNAME:CET
DTSTART:20271031T010000
END:STANDARD
END:VTIMEZONE
BEGIN:VEVENT
DTSTART;TZID=Europe/Berlin:20261002T143000
DTEND;TZID=Europe/Berlin:20261002T170000
DTSTAMP:20260421T214758
CREATED:20251201T143359Z
LAST-MODIFIED:20260419T175448Z
UID:10000342-1790951400-1790960400@krebsberatung-muenster.de
SUMMARY:Gedächtnistraining
DESCRIPTION:Leitung: Sabine Förster\, zertifizierte Gedächtnistrainerin des BVGT e.V. (Bundesverband Gedächtnistraining e.V.)\nOrt: Raum 403 im Gesundheitshaus Münster (4. OG)\, Gasselstiege 13\, 48159 Münster\nTeilnahmegebühr: 15 €/erm. 12 €
URL:https://krebsberatung-muenster.de/veranstaltung/gedaechtnistraining/2026-10-02/
ATTACH;FMTTYPE=image/jpeg:https://krebsberatung-muenster.de/wp-content/uploads/Gingko.jpg
END:VEVENT
BEGIN:VEVENT
DTSTART;TZID=Europe/Berlin:20261006T163000
DTEND;TZID=Europe/Berlin:20261006T180000
DTSTAMP:20260421T214758
CREATED:20240709T111816Z
LAST-MODIFIED:20251204T123141Z
UID:10000296-1791304200-1791309600@krebsberatung-muenster.de
SUMMARY:Kindertreff
DESCRIPTION:Für Kinder im Alter von 6 bis 13 Jahren\, die mit der Krebserkrankung eines Angehörigen konfrontiert sind\, bietet Christina Strotmann (Dipl.-Psychologin\, Psychoonkologin\, Mitarbeiterin der Krebsberatungsstelle) ein Treffen an.
URL:https://krebsberatung-muenster.de/veranstaltung/kindertreff/2026-10-06/
ATTACH;FMTTYPE=image/jpeg:https://krebsberatung-muenster.de/wp-content/uploads/Kindertreff-1.jpg
END:VEVENT
BEGIN:VEVENT
DTSTART;TZID=Europe/Berlin:20261007T150000
DTEND;TZID=Europe/Berlin:20261007T180000
DTSTAMP:20260421T214758
CREATED:20240709T111214Z
LAST-MODIFIED:20251120T114102Z
UID:10000293-1791385200-1791396000@krebsberatung-muenster.de
SUMMARY:Ernährungsberatung
DESCRIPTION:Kerstin Lemper\nDiätassistentin (Onkologie/VDD): Möglichkeiten der Ernährung zur Unterstützung der Krebsbehandlung
URL:https://krebsberatung-muenster.de/veranstaltung/ernaehrungsberatung-3/2026-10-07/
ATTACH;FMTTYPE=image/jpeg:https://krebsberatung-muenster.de/wp-content/uploads/Seminar_Ernaehrung.jpg
END:VEVENT
BEGIN:VEVENT
DTSTART;TZID=Europe/Berlin:20261008T110000
DTEND;TZID=Europe/Berlin:20261008T170000
DTSTAMP:20260421T214758
CREATED:20240709T102846Z
LAST-MODIFIED:20251120T120549Z
UID:10000325-1791457200-1791478800@krebsberatung-muenster.de
SUMMARY:Edelfundus
DESCRIPTION:… das Kaufhaus auf Zeit\nVerkauf zugunsten der Krebsberatungsstelle Münster\nmehr erfahren
URL:https://krebsberatung-muenster.de/veranstaltung/edelfundus/2026-10-08/
CATEGORIES:Wiederkehrende Veranstaltungen
ATTACH;FMTTYPE=image/jpeg:https://krebsberatung-muenster.de/wp-content/uploads/Edelfundus_Logo.jpg
END:VEVENT
BEGIN:VEVENT
DTSTART;TZID=Europe/Berlin:20261009T110000
DTEND;TZID=Europe/Berlin:20261009T170000
DTSTAMP:20260421T214758
CREATED:20240709T102846Z
LAST-MODIFIED:20251120T120549Z
UID:10000326-1791543600-1791565200@krebsberatung-muenster.de
SUMMARY:Edelfundus
DESCRIPTION:… das Kaufhaus auf Zeit\nVerkauf zugunsten der Krebsberatungsstelle Münster\nmehr erfahren
URL:https://krebsberatung-muenster.de/veranstaltung/edelfundus/2026-10-09/
CATEGORIES:Wiederkehrende Veranstaltungen
ATTACH;FMTTYPE=image/jpeg:https://krebsberatung-muenster.de/wp-content/uploads/Edelfundus_Logo.jpg
END:VEVENT
BEGIN:VEVENT
DTSTART;TZID=Europe/Berlin:20261010T110000
DTEND;TZID=Europe/Berlin:20261010T170000
DTSTAMP:20260421T214758
CREATED:20240709T102846Z
LAST-MODIFIED:20251120T120549Z
UID:10000327-1791630000-1791651600@krebsberatung-muenster.de
SUMMARY:Edelfundus
DESCRIPTION:… das Kaufhaus auf Zeit\nVerkauf zugunsten der Krebsberatungsstelle Münster\nmehr erfahren
URL:https://krebsberatung-muenster.de/veranstaltung/edelfundus/2026-10-10/
CATEGORIES:Wiederkehrende Veranstaltungen
ATTACH;FMTTYPE=image/jpeg:https://krebsberatung-muenster.de/wp-content/uploads/Edelfundus_Logo.jpg
END:VEVENT
BEGIN:VEVENT
DTSTART;TZID=Europe/Berlin:20261010T160000
DTEND;TZID=Europe/Berlin:20261010T180000
DTSTAMP:20260421T214758
CREATED:20240709T114215Z
LAST-MODIFIED:20251201T144224Z
UID:10000347-1791648000-1791655200@krebsberatung-muenster.de
SUMMARY:Heilsames Singen
DESCRIPTION:Leitung: Elke Ohlwein\, Zertifizierte Singleiterin für heilsames und gesundheitsförderndes Singen (Akademie für Singen und Gesundheit)\nOrt: Raum 403 im Gesundheitshaus Münster (4. OG)\, Gasselstiege 13\, 48159 Münster\nTeilnahmegebühr: 10 €/erm. 8 €
URL:https://krebsberatung-muenster.de/veranstaltung/heilsames-singen/2026-10-10/
CATEGORIES:Wiederkehrende Veranstaltungen
ATTACH;FMTTYPE=image/jpeg:https://krebsberatung-muenster.de/wp-content/uploads/Heilsames_Singen.jpg
END:VEVENT
BEGIN:VEVENT
DTSTART;TZID=Europe/Berlin:20261012T183000
DTEND;TZID=Europe/Berlin:20261012T200000
DTSTAMP:20260421T214758
CREATED:20260220T082254Z
LAST-MODIFIED:20260222T104807Z
UID:10000380-1791829800-1791835200@krebsberatung-muenster.de
SUMMARY:online-Vortrag "Tumor-assoziierte Fatigue"
DESCRIPTION:Referent: Oliver Özöncel\, Dipl.-Psychologe\, Pychoonkologe\, Berliner Krebsgesellschaft
URL:https://krebsberatung-muenster.de/veranstaltung/12-10-2026-online-vortrag-tumor-assoziierte-fatigue/
ATTACH;FMTTYPE=image/jpeg:https://krebsberatung-muenster.de/wp-content/uploads/Vortrag.jpg
END:VEVENT
BEGIN:VEVENT
DTSTART;TZID=Europe/Berlin:20261013T163000
DTEND;TZID=Europe/Berlin:20261013T180000
DTSTAMP:20260421T214758
CREATED:20240709T111629Z
LAST-MODIFIED:20251120T114649Z
UID:10000298-1791909000-1791914400@krebsberatung-muenster.de
SUMMARY:Jugendtreff
DESCRIPTION:für Jugendliche (ab ca. 14 Jahre)\, die mit der Krebserkrankung eines Angehörigen konfrontiert sind\, bietet die Krebsberatung ein Treffen an.
URL:https://krebsberatung-muenster.de/veranstaltung/jugendtreff/2026-10-13/
ATTACH;FMTTYPE=image/jpeg:https://krebsberatung-muenster.de/wp-content/uploads/Jugendtreff-1.jpg
END:VEVENT
BEGIN:VEVENT
DTSTART;TZID=Europe/Berlin:20261021T150000
DTEND;TZID=Europe/Berlin:20261021T180000
DTSTAMP:20260421T214758
CREATED:20240709T104635Z
LAST-MODIFIED:20251120T110954Z
UID:10000260-1792594800-1792605600@krebsberatung-muenster.de
SUMMARY:Beratung: Komplementäre Krebsbehandlung
DESCRIPTION:Matthias Eubel\nHeilpraktiker: Traditionelle Chinesische Medizin (TCM)\, Klassische Naturheilverfahren
URL:https://krebsberatung-muenster.de/veranstaltung/beratung-komplementaere-krebsbehandlung-2/2026-10-21/
ATTACH;FMTTYPE=image/jpeg:https://krebsberatung-muenster.de/wp-content/uploads/Beratung_Naturheilverfahren.jpg
END:VEVENT
BEGIN:VEVENT
DTSTART;TZID=Europe/Berlin:20261028T150000
DTEND;TZID=Europe/Berlin:20261028T180000
DTSTAMP:20260421T214758
CREATED:20240709T104229Z
LAST-MODIFIED:20251120T111639Z
UID:10000272-1793199600-1793210400@krebsberatung-muenster.de
SUMMARY:Erstberatung zu Mangelernährung
DESCRIPTION:Dennis Papanouskas\nDiätassistent\, Leiter der Schule für Diätassistenten am Universitätsklinikum Münster
URL:https://krebsberatung-muenster.de/veranstaltung/erstberatung-zu-mangelernaehrung/2026-10-28/
CATEGORIES:Wiederkehrende Veranstaltungen
ATTACH;FMTTYPE=image/jpeg:https://krebsberatung-muenster.de/wp-content/uploads/Mangelernaehrung.jpg
END:VEVENT
BEGIN:VEVENT
DTSTART;TZID=Europe/Berlin:20261030T143000
DTEND;TZID=Europe/Berlin:20261030T173000
DTSTAMP:20260421T214758
CREATED:20251201T143746Z
LAST-MODIFIED:20251201T143746Z
UID:10000344-1793370600-1793381400@krebsberatung-muenster.de
SUMMARY:Atemworkshop
DESCRIPTION:Leitung: Heike Fischer Atem- und Entspannungspädagogin\, Yoga-Lehrerin\nOrt: Raum 403 im Gesundheitshaus Münster (4. OG)\, Gasselstiege 13\, 48159 Münster\nTeilnahmegebühr: 20 €/erm. 16 €
URL:https://krebsberatung-muenster.de/veranstaltung/atemworkshop/2026-10-30/
ATTACH;FMTTYPE=image/jpeg:https://krebsberatung-muenster.de/wp-content/uploads/Seifenblasen.jpg
END:VEVENT
END:VCALENDAR