BEGIN:VCALENDAR
VERSION:2.0
PRODID:-//Krebsberatung im Münsterland e.V. - ECPv6.15.20//NONSGML v1.0//EN
CALSCALE:GREGORIAN
METHOD:PUBLISH
X-ORIGINAL-URL:https://krebsberatung-muenster.de
X-WR-CALDESC:Veranstaltungen für Krebsberatung im Münsterland e.V.
REFRESH-INTERVAL;VALUE=DURATION:PT1H
X-Robots-Tag:noindex
X-PUBLISHED-TTL:PT1H
BEGIN:VTIMEZONE
TZID:Europe/Berlin
BEGIN:DAYLIGHT
TZOFFSETFROM:+0100
TZOFFSETTO:+0200
TZNAME:CEST
DTSTART:20250330T010000
END:DAYLIGHT
BEGIN:STANDARD
TZOFFSETFROM:+0200
TZOFFSETTO:+0100
TZNAME:CET
DTSTART:20251026T010000
END:STANDARD
BEGIN:DAYLIGHT
TZOFFSETFROM:+0100
TZOFFSETTO:+0200
TZNAME:CEST
DTSTART:20260329T010000
END:DAYLIGHT
BEGIN:STANDARD
TZOFFSETFROM:+0200
TZOFFSETTO:+0100
TZNAME:CET
DTSTART:20261025T010000
END:STANDARD
BEGIN:DAYLIGHT
TZOFFSETFROM:+0100
TZOFFSETTO:+0200
TZNAME:CEST
DTSTART:20270328T010000
END:DAYLIGHT
BEGIN:STANDARD
TZOFFSETFROM:+0200
TZOFFSETTO:+0100
TZNAME:CET
DTSTART:20271031T010000
END:STANDARD
END:VTIMEZONE
BEGIN:VEVENT
DTSTART;TZID=Europe/Berlin:20261202T150000
DTEND;TZID=Europe/Berlin:20261202T180000
DTSTAMP:20260422T005054
CREATED:20240709T105257Z
LAST-MODIFIED:20251120T111429Z
UID:10000266-1796223600-1796234400@krebsberatung-muenster.de
SUMMARY:Beratung: Komplementäre Krebsbehandlung
DESCRIPTION:Hedda Friesland\nFachärztin für Allgemeinmedizin: Misteltherapie bei Krebs
URL:https://krebsberatung-muenster.de/veranstaltung/beratung-komplementaere-krebsbehandlung-4/2026-12-02/
ATTACH;FMTTYPE=image/jpeg:https://krebsberatung-muenster.de/wp-content/uploads/Beratung_Naturheilverfahren.jpg
END:VEVENT
BEGIN:VEVENT
DTSTART;TZID=Europe/Berlin:20261202T150000
DTEND;TZID=Europe/Berlin:20261202T180000
DTSTAMP:20260422T005054
CREATED:20240709T110052Z
LAST-MODIFIED:20251120T110700Z
UID:10000258-1796223600-1796234400@krebsberatung-muenster.de
SUMMARY:Medizinische Beratung bei gynäkologischen Krebserkrankungen
DESCRIPTION:Dr. med. Monika Burger\nFachärztin für Gynäkologie und Geburtshilfe
URL:https://krebsberatung-muenster.de/veranstaltung/medizinische-beratung-bei-gynaekologischen-krebserkrankungen/2026-12-02/
CATEGORIES:Wiederkehrende Veranstaltungen
ATTACH;FMTTYPE=image/jpeg:https://krebsberatung-muenster.de/wp-content/uploads/gyn_Beratung.jpg
END:VEVENT
BEGIN:VEVENT
DTSTART;TZID=Europe/Berlin:20261205T160000
DTEND;TZID=Europe/Berlin:20261205T180000
DTSTAMP:20260422T005054
CREATED:20240709T114215Z
LAST-MODIFIED:20251201T144224Z
UID:10000348-1796486400-1796493600@krebsberatung-muenster.de
SUMMARY:Heilsames Singen
DESCRIPTION:Leitung: Elke Ohlwein\, Zertifizierte Singleiterin für heilsames und gesundheitsförderndes Singen (Akademie für Singen und Gesundheit)\nOrt: Raum 403 im Gesundheitshaus Münster (4. OG)\, Gasselstiege 13\, 48159 Münster\nTeilnahmegebühr: 10 €/erm. 8 €
URL:https://krebsberatung-muenster.de/veranstaltung/heilsames-singen/2026-12-05/
CATEGORIES:Wiederkehrende Veranstaltungen
ATTACH;FMTTYPE=image/jpeg:https://krebsberatung-muenster.de/wp-content/uploads/Heilsames_Singen.jpg
END:VEVENT
BEGIN:VEVENT
DTSTART;TZID=Europe/Berlin:20261210T110000
DTEND;TZID=Europe/Berlin:20261210T170000
DTSTAMP:20260422T005054
CREATED:20240709T102846Z
LAST-MODIFIED:20251120T120549Z
UID:10000332-1796900400-1796922000@krebsberatung-muenster.de
SUMMARY:Edelfundus
DESCRIPTION:… das Kaufhaus auf Zeit\nVerkauf zugunsten der Krebsberatungsstelle Münster\nmehr erfahren
URL:https://krebsberatung-muenster.de/veranstaltung/edelfundus/2026-12-10/
CATEGORIES:Wiederkehrende Veranstaltungen
ATTACH;FMTTYPE=image/jpeg:https://krebsberatung-muenster.de/wp-content/uploads/Edelfundus_Logo.jpg
END:VEVENT
BEGIN:VEVENT
DTSTART;TZID=Europe/Berlin:20261211T110000
DTEND;TZID=Europe/Berlin:20261211T170000
DTSTAMP:20260422T005054
CREATED:20240709T102846Z
LAST-MODIFIED:20251120T120549Z
UID:10000333-1796986800-1797008400@krebsberatung-muenster.de
SUMMARY:Edelfundus
DESCRIPTION:… das Kaufhaus auf Zeit\nVerkauf zugunsten der Krebsberatungsstelle Münster\nmehr erfahren
URL:https://krebsberatung-muenster.de/veranstaltung/edelfundus/2026-12-11/
CATEGORIES:Wiederkehrende Veranstaltungen
ATTACH;FMTTYPE=image/jpeg:https://krebsberatung-muenster.de/wp-content/uploads/Edelfundus_Logo.jpg
END:VEVENT
BEGIN:VEVENT
DTSTART;TZID=Europe/Berlin:20261212T110000
DTEND;TZID=Europe/Berlin:20261212T170000
DTSTAMP:20260422T005054
CREATED:20240709T102846Z
LAST-MODIFIED:20251120T120549Z
UID:10000334-1797073200-1797094800@krebsberatung-muenster.de
SUMMARY:Edelfundus
DESCRIPTION:… das Kaufhaus auf Zeit\nVerkauf zugunsten der Krebsberatungsstelle Münster\nmehr erfahren
URL:https://krebsberatung-muenster.de/veranstaltung/edelfundus/2026-12-12/
CATEGORIES:Wiederkehrende Veranstaltungen
ATTACH;FMTTYPE=image/jpeg:https://krebsberatung-muenster.de/wp-content/uploads/Edelfundus_Logo.jpg
END:VEVENT
END:VCALENDAR